BEGIN:VCALENDAR
VERSION:2.0
PRODID:icalendar-ruby
CALSCALE:GREGORIAN
METHOD:PUBLISH
BEGIN:VEVENT
DTSTAMP:20260420T083206Z
UID:17-169141@rockofsalvation.net
DTSTART:20260507T160000Z
DTEND:20260507T170000Z
CLASS:PUBLIC
CREATED:20260418T005836
DESCRIPTION:Join us at Vineland City Hall this National Day of Prayer as we
  gather as the body of Christ to seek God’s presence and lift our voices
  in prayer for our community\, our nation\, and those in leadership. Roote
 d in Scripture and united in faith\, we will come together to intercede\, 
 give thanks\, and ask for God’s wisdom\, peace\, and guidance over our c
 ity and beyond. This public gathering is an opportunity for believers from
  across the community to stand together in faith and boldly pray for God
 ’s will to be done. All are welcome to join us for this meaningful time 
 of prayer and interceding.
LAST-MODIFIED:20260418T005836
LOCATION:640 E. Wood St. Vineland\, NJ 08360
SUMMARY:National Day Of Prayer
URL;VALUE=URI:https://www.rockofsalvation.net/events/national-day-of-prayer
 /2026-05-07
ATTACH;FILENAME=Untitled-5-2.jpg;FMTTYPE=image/jpeg:https://dq5pwpg1q8ru0.c
 loudfront.net/2026/04/18/04/55/59/42ec2ed3-78a3-4425-a869-33c6781064a9/Unt
 itled-5-2.jpg
END:VEVENT
END:VCALENDAR
